BEGIN:VCALENDAR
VERSION:2.0
BEGIN:VEVENT
UID:ics69eb906901549
DTSTAMP:20260424T174649Z
LOCATION:A231 (A5\, 6)
DESCRIPTION:The MZES regularly hosts academic talks in which political scientists\, sociologists\, psychologists and economists present their ongoing work.
URL;VALUE=URI:
SUMMARY:MZES Speaker Series
DTSTART:20260428T101500Z
DTEND:20260428T113000Z
END:VEVENT
END:VCALENDAR
