BEGIN:VCALENDAR
VERSION:2.0
BEGIN:VEVENT
UID:ics69eb5e22ef764
DTSTAMP:20260424T141218Z
LOCATION:A231 (A5\, 6)
DESCRIPTION:The MZES regularly hosts academic talks in which political scientists\, sociologists\, psychologists and economists present their ongoing work.
URL;VALUE=URI:
SUMMARY:MZES Speaker Series 
DTSTART:20260428T114500Z
DTEND:20260428T131500Z
END:VEVENT
END:VCALENDAR
