BEGIN:VCALENDAR
VERSION:2.0
BEGIN:VEVENT
UID:ics69e7270ca539c
DTSTAMP:20260421T092812Z
LOCATION:
DESCRIPTION:A funding opportunity from the Volkswagen Foundation is aimed at postdoctoral researchers from all disciplines who are conducting research on the nexus of security and technology from a European perspective. 
URL;VALUE=URI:
SUMMARY:Postdoc Fellowships Security & Technology (VolkswagenStiftung)
DTSTART;VALUE=DATE:20260505
DTEND;VALUE=DATE:20260506
X-MICROSOFT-CDO-ALLDAYEVENT:TRUE
END:VEVENT
END:VCALENDAR
