BEGIN:VCALENDAR
VERSION:2.0
BEGIN:VEVENT
UID:ics69e83138e3faa
DTSTAMP:20260422T042352Z
LOCATION:Infotheke im Bibliotheksbereich Schloss Ehrenhof
DESCRIPTION:
URL;VALUE=URI:
SUMMARY:Sprechstunde zu beck-online
DTSTART:20260413T113000Z
DTEND:20260413T123000Z
END:VEVENT
END:VCALENDAR
