BEGIN:VCALENDAR
VERSION:2.0
BEGIN:VEVENT
UID:ics69e7940a2bd3c
DTSTAMP:20260421T171314Z
LOCATION:
DESCRIPTION:
URL;VALUE=URI:
SUMMARY:Jahresvortrag des Historischen Instituts 
DTSTART:20261203T160000Z
DTEND:20261203T170000Z
END:VEVENT
END:VCALENDAR
