BEGIN:VCALENDAR
VERSION:2.0
BEGIN:VEVENT
UID:ics69ebc682df467
DTSTAMP:20260424T213738Z
LOCATION:
DESCRIPTION:
URL;VALUE=URI:
SUMMARY:Journée d'études
DTSTART:20260423T070000Z
DTEND:20260423T160000Z
END:VEVENT
END:VCALENDAR
