BEGIN:VCALENDAR
VERSION:2.0
BEGIN:VEVENT
UID:ics69eb610470fca
DTSTAMP:20260424T142436Z
LOCATION:MZES-Konferenzsaal A230/A231
DESCRIPTION:Im nächsten Vortrag der Public Lecture Series spricht Prof. Arnout van de Rijt zum Thema ”Luck and Success in Millions of Life Courses"
URL;VALUE=URI:
SUMMARY:MZES Public Lecture Series 
DTSTART:20260506T123000Z
DTEND:20260506T133000Z
END:VEVENT
END:VCALENDAR
