BEGIN:VCALENDAR
VERSION:2.0
BEGIN:VEVENT
UID:ics69e5b2567f5fa
DTSTAMP:20260420T065758Z
LOCATION:
DESCRIPTION:Das Forschungsdatenzentrum der Universitätsbibliothek bietet ab sofort ein neues regelmäßiges Veranstaltungsformat an: die offene FDZ-Sprechstunde.
URL;VALUE=URI:
SUMMARY:Offene FDZ-Sprechstunde
DTSTART:20260423T120000Z
DTEND:20260423T130000Z
END:VEVENT
END:VCALENDAR
