BEGIN:VCALENDAR
VERSION:2.0
BEGIN:VEVENT
UID:ics69ed2a347edec
DTSTAMP:20260425T225516Z
LOCATION:EO 159
DESCRIPTION:Info- und Austauschabend für alle Bachelor-Studierende der Sprach- und Literaturwissenschaften
URL;VALUE=URI:
SUMMARY:Welcher Master passt zu mir?
DTSTART:20260428T170000Z
DTEND:20260428T180000Z
END:VEVENT
END:VCALENDAR
